BEGIN:VCALENDAR
VERSION:2.0
PRODID:-//Emmanuel Baptist Church - ECPv6.15.18//NONSGML v1.0//EN
CALSCALE:GREGORIAN
METHOD:PUBLISH
X-ORIGINAL-URL:https://godwithuscanada.com
X-WR-CALDESC:Events for Emmanuel Baptist Church
REFRESH-INTERVAL;VALUE=DURATION:PT1H
X-Robots-Tag:noindex
X-PUBLISHED-TTL:PT1H
BEGIN:VTIMEZONE
TZID:America/Edmonton
BEGIN:DAYLIGHT
TZOFFSETFROM:-0700
TZOFFSETTO:-0600
TZNAME:MDT
DTSTART:20240310T090000
END:DAYLIGHT
BEGIN:STANDARD
TZOFFSETFROM:-0600
TZOFFSETTO:-0700
TZNAME:MST
DTSTART:20241103T080000
END:STANDARD
BEGIN:DAYLIGHT
TZOFFSETFROM:-0700
TZOFFSETTO:-0600
TZNAME:MDT
DTSTART:20250309T090000
END:DAYLIGHT
BEGIN:STANDARD
TZOFFSETFROM:-0600
TZOFFSETTO:-0700
TZNAME:MST
DTSTART:20251102T080000
END:STANDARD
BEGIN:DAYLIGHT
TZOFFSETFROM:-0700
TZOFFSETTO:-0600
TZNAME:MDT
DTSTART:20260308T090000
END:DAYLIGHT
BEGIN:STANDARD
TZOFFSETFROM:-0600
TZOFFSETTO:-0700
TZNAME:MST
DTSTART:20261101T080000
END:STANDARD
END:VTIMEZONE
BEGIN:VEVENT
DTSTART;TZID=America/Edmonton:20250629T110000
DTEND;TZID=America/Edmonton:20250629T120000
DTSTAMP:20260419T084739
CREATED:20250608T225610Z
LAST-MODIFIED:20250608T225610Z
UID:3102-1751194800-1751198400@godwithuscanada.com
SUMMARY:Sunday Morning Service
DESCRIPTION:
URL:https://godwithuscanada.com/event/sunday-morning-service-10/
LOCATION:Emmanuel Baptist Church\, 108 Cornwall Drive\, Fort McMurray\, Alberta\, T9K 1E7\, Canada
ATTACH;FMTTYPE=image/png:https://godwithuscanada.com/wp-content/uploads/2025/03/Screenshot-2025-03-26-132855.png
END:VEVENT
BEGIN:VEVENT
DTSTART;TZID=America/Edmonton:20250629T180000
DTEND;TZID=America/Edmonton:20250629T190000
DTSTAMP:20260419T084739
CREATED:20250608T225656Z
LAST-MODIFIED:20250608T225656Z
UID:3106-1751220000-1751223600@godwithuscanada.com
SUMMARY:Sunday Evening Service
DESCRIPTION:
URL:https://godwithuscanada.com/event/sunday-evening-service-11/
LOCATION:Emmanuel Baptist Church\, 108 Cornwall Drive\, Fort McMurray\, Alberta\, T9K 1E7\, Canada
ATTACH;FMTTYPE=image/png:https://godwithuscanada.com/wp-content/uploads/2025/03/Screenshot-2025-03-26-132855.png
END:VEVENT
END:VCALENDAR