BEGIN:VCALENDAR
VERSION:2.0
PRODID:-//Emmanuel Baptist Church - ECPv6.15.18//NONSGML v1.0//EN
CALSCALE:GREGORIAN
METHOD:PUBLISH
X-WR-CALNAME:Emmanuel Baptist Church
X-ORIGINAL-URL:https://godwithuscanada.com
X-WR-CALDESC:Events for Emmanuel Baptist Church
REFRESH-INTERVAL;VALUE=DURATION:PT1H
X-Robots-Tag:noindex
X-PUBLISHED-TTL:PT1H
BEGIN:VTIMEZONE
TZID:America/Edmonton
BEGIN:DAYLIGHT
TZOFFSETFROM:-0700
TZOFFSETTO:-0600
TZNAME:MDT
DTSTART:20240310T090000
END:DAYLIGHT
BEGIN:STANDARD
TZOFFSETFROM:-0600
TZOFFSETTO:-0700
TZNAME:MST
DTSTART:20241103T080000
END:STANDARD
BEGIN:DAYLIGHT
TZOFFSETFROM:-0700
TZOFFSETTO:-0600
TZNAME:MDT
DTSTART:20250309T090000
END:DAYLIGHT
BEGIN:STANDARD
TZOFFSETFROM:-0600
TZOFFSETTO:-0700
TZNAME:MST
DTSTART:20251102T080000
END:STANDARD
BEGIN:DAYLIGHT
TZOFFSETFROM:-0700
TZOFFSETTO:-0600
TZNAME:MDT
DTSTART:20260308T090000
END:DAYLIGHT
BEGIN:STANDARD
TZOFFSETFROM:-0600
TZOFFSETTO:-0700
TZNAME:MST
DTSTART:20261101T080000
END:STANDARD
END:VTIMEZONE
BEGIN:VEVENT
DTSTART;TZID=America/Edmonton:20250810T110000
DTEND;TZID=America/Edmonton:20250810T120000
DTSTAMP:20260419T102759
CREATED:20250726T213244Z
LAST-MODIFIED:20250726T213244Z
UID:3298-1754823600-1754827200@godwithuscanada.com
SUMMARY:Sunday Morning Service
DESCRIPTION:
URL:https://godwithuscanada.com/event/sunday-morning-service-15/
LOCATION:Emmanuel Baptist Church\, 108 Cornwall Drive\, Fort McMurray\, Alberta\, T9K 1E7\, Canada
ATTACH;FMTTYPE=image/png:https://godwithuscanada.com/wp-content/uploads/2025/03/Screenshot-2025-03-26-132510.png
END:VEVENT
BEGIN:VEVENT
DTSTART;TZID=America/Edmonton:20250806T190000
DTEND;TZID=America/Edmonton:20250806T200000
DTSTAMP:20260419T102759
CREATED:20250726T213156Z
LAST-MODIFIED:20250726T213156Z
UID:3294-1754506800-1754510400@godwithuscanada.com
SUMMARY:Wednesday Bible Study
DESCRIPTION:
URL:https://godwithuscanada.com/event/wednesday-bible-study-7/
LOCATION:Emmanuel Baptist Church\, 108 Cornwall Drive\, Fort McMurray\, Alberta\, T9K 1E7\, Canada
ATTACH;FMTTYPE=image/jpeg:https://godwithuscanada.com/wp-content/uploads/2025/03/pexels-photo-5199805-5199805-scaled.jpg
END:VEVENT
BEGIN:VEVENT
DTSTART;TZID=America/Edmonton:20250803T180000
DTEND;TZID=America/Edmonton:20250803T190000
DTSTAMP:20260419T102759
CREATED:20250726T213109Z
LAST-MODIFIED:20250726T213109Z
UID:3290-1754244000-1754247600@godwithuscanada.com
SUMMARY:Sunday Evening Service
DESCRIPTION:
URL:https://godwithuscanada.com/event/sunday-evening-service-15/
LOCATION:Emmanuel Baptist Church\, 108 Cornwall Drive\, Fort McMurray\, Alberta\, T9K 1E7\, Canada
ATTACH;FMTTYPE=image/png:https://godwithuscanada.com/wp-content/uploads/2025/03/Screenshot-2025-03-26-132510.png
END:VEVENT
BEGIN:VEVENT
DTSTART;TZID=America/Edmonton:20250803T110000
DTEND;TZID=America/Edmonton:20250803T120000
DTSTAMP:20260419T102759
CREATED:20250726T213022Z
LAST-MODIFIED:20250726T213022Z
UID:3286-1754218800-1754222400@godwithuscanada.com
SUMMARY:Sunday Morning Service
DESCRIPTION:
URL:https://godwithuscanada.com/event/sunday-morning-service-14/
LOCATION:Emmanuel Baptist Church\, 108 Cornwall Drive\, Fort McMurray\, Alberta\, T9K 1E7\, Canada
ATTACH;FMTTYPE=image/png:https://godwithuscanada.com/wp-content/uploads/2025/03/Screenshot-2025-03-26-132510.png
END:VEVENT
BEGIN:VEVENT
DTSTART;TZID=America/Edmonton:20250730T190000
DTEND;TZID=America/Edmonton:20250730T200000
DTSTAMP:20260419T102759
CREATED:20250713T160110Z
LAST-MODIFIED:20250713T160110Z
UID:3257-1753902000-1753905600@godwithuscanada.com
SUMMARY:Wednesday Bible Study
DESCRIPTION:
URL:https://godwithuscanada.com/event/wednesday-bible-study-6/
LOCATION:Emmanuel Baptist Church\, 108 Cornwall Drive\, Fort McMurray\, Alberta\, T9K 1E7\, Canada
ATTACH;FMTTYPE=image/jpeg:https://godwithuscanada.com/wp-content/uploads/2025/03/pexels-photo-5199805-5199805-scaled.jpg
END:VEVENT
BEGIN:VEVENT
DTSTART;TZID=America/Edmonton:20250727T110000
DTEND;TZID=America/Edmonton:20250727T120000
DTSTAMP:20260419T102759
CREATED:20250713T155954Z
LAST-MODIFIED:20250713T155954Z
UID:3249-1753614000-1753617600@godwithuscanada.com
SUMMARY:Sunday Morning Service
DESCRIPTION:
URL:https://godwithuscanada.com/event/sunday-morning-service-13/
LOCATION:Emmanuel Baptist Church\, 108 Cornwall Drive\, Fort McMurray\, Alberta\, T9K 1E7\, Canada
ATTACH;FMTTYPE=image/png:https://godwithuscanada.com/wp-content/uploads/2025/03/Screenshot-2025-03-26-132855.png
END:VEVENT
BEGIN:VEVENT
DTSTART;TZID=America/Edmonton:20250723T190000
DTEND;TZID=America/Edmonton:20250723T200000
DTSTAMP:20260419T102759
CREATED:20250713T155919Z
LAST-MODIFIED:20250713T155919Z
UID:3245-1753297200-1753300800@godwithuscanada.com
SUMMARY:Wednesday Bible Study
DESCRIPTION:
URL:https://godwithuscanada.com/event/wednesday-bible-study-5/
LOCATION:Emmanuel Baptist Church\, 108 Cornwall Drive\, Fort McMurray\, Alberta\, T9K 1E7\, Canada
ATTACH;FMTTYPE=image/jpeg:https://godwithuscanada.com/wp-content/uploads/2025/03/pexels-photo-5199805-5199805-scaled.jpg
END:VEVENT
BEGIN:VEVENT
DTSTART;TZID=America/Edmonton:20250720T180000
DTEND;TZID=America/Edmonton:20250720T190000
DTSTAMP:20260419T102759
CREATED:20250713T155833Z
LAST-MODIFIED:20250713T155833Z
UID:3241-1753034400-1753038000@godwithuscanada.com
SUMMARY:Sunday Evening Service
DESCRIPTION:
URL:https://godwithuscanada.com/event/sunday-evening-service-14/
LOCATION:Emmanuel Baptist Church\, 108 Cornwall Drive\, Fort McMurray\, Alberta\, T9K 1E7\, Canada
ATTACH;FMTTYPE=image/png:https://godwithuscanada.com/wp-content/uploads/2025/03/Screenshot-2025-03-26-132855.png
END:VEVENT
BEGIN:VEVENT
DTSTART;TZID=America/Edmonton:20250720T110000
DTEND;TZID=America/Edmonton:20250720T120000
DTSTAMP:20260419T102759
CREATED:20250713T155756Z
LAST-MODIFIED:20250713T155756Z
UID:3237-1753009200-1753012800@godwithuscanada.com
SUMMARY:Sunday Morning Service
DESCRIPTION:
URL:https://godwithuscanada.com/event/sunday-morning-service-12/
LOCATION:Emmanuel Baptist Church\, 108 Cornwall Drive\, Fort McMurray\, Alberta\, T9K 1E7\, Canada
ATTACH;FMTTYPE=image/png:https://godwithuscanada.com/wp-content/uploads/2025/03/Screenshot-2025-03-26-132855.png
END:VEVENT
BEGIN:VEVENT
DTSTART;TZID=America/Edmonton:20250716T190000
DTEND;TZID=America/Edmonton:20250716T200000
DTSTAMP:20260419T102759
CREATED:20250713T155715Z
LAST-MODIFIED:20250713T155715Z
UID:3233-1752692400-1752696000@godwithuscanada.com
SUMMARY:Wednesday Bible Study
DESCRIPTION:
URL:https://godwithuscanada.com/event/wednesday-bible-study-4/
LOCATION:Emmanuel Baptist Church\, 108 Cornwall Drive\, Fort McMurray\, Alberta\, T9K 1E7\, Canada
ATTACH;FMTTYPE=image/jpeg:https://godwithuscanada.com/wp-content/uploads/2025/03/pexels-photo-5199805-5199805-scaled.jpg
END:VEVENT
BEGIN:VEVENT
DTSTART;TZID=America/Edmonton:20250713T180000
DTEND;TZID=America/Edmonton:20250713T190000
DTSTAMP:20260419T102759
CREATED:20250713T155626Z
LAST-MODIFIED:20250713T155626Z
UID:3229-1752429600-1752433200@godwithuscanada.com
SUMMARY:Sunday Evening Service
DESCRIPTION:
URL:https://godwithuscanada.com/event/sunday-evening-service-13/
LOCATION:Emmanuel Baptist Church\, 108 Cornwall Drive\, Fort McMurray\, Alberta\, T9K 1E7\, Canada
ATTACH;FMTTYPE=image/png:https://godwithuscanada.com/wp-content/uploads/2025/03/Screenshot-2025-03-26-132855.png
END:VEVENT
BEGIN:VEVENT
DTSTART;TZID=America/Edmonton:20250713T110000
DTEND;TZID=America/Edmonton:20250713T120000
DTSTAMP:20260419T102759
CREATED:20250713T155541Z
LAST-MODIFIED:20250713T155541Z
UID:3225-1752404400-1752408000@godwithuscanada.com
SUMMARY:Sunday Morning Service
DESCRIPTION:
URL:https://godwithuscanada.com/event/sunday-morning-service-11/
LOCATION:Emmanuel Baptist Church\, 108 Cornwall Drive\, Fort McMurray\, Alberta\, T9K 1E7\, Canada
ATTACH;FMTTYPE=image/png:https://godwithuscanada.com/wp-content/uploads/2025/03/Screenshot-2025-03-26-132855.png
END:VEVENT
BEGIN:VEVENT
DTSTART;TZID=America/Edmonton:20250629T180000
DTEND;TZID=America/Edmonton:20250629T190000
DTSTAMP:20260419T102759
CREATED:20250608T225656Z
LAST-MODIFIED:20250608T225656Z
UID:3106-1751220000-1751223600@godwithuscanada.com
SUMMARY:Sunday Evening Service
DESCRIPTION:
URL:https://godwithuscanada.com/event/sunday-evening-service-11/
LOCATION:Emmanuel Baptist Church\, 108 Cornwall Drive\, Fort McMurray\, Alberta\, T9K 1E7\, Canada
ATTACH;FMTTYPE=image/png:https://godwithuscanada.com/wp-content/uploads/2025/03/Screenshot-2025-03-26-132855.png
END:VEVENT
BEGIN:VEVENT
DTSTART;TZID=America/Edmonton:20250629T110000
DTEND;TZID=America/Edmonton:20250629T120000
DTSTAMP:20260419T102759
CREATED:20250608T225610Z
LAST-MODIFIED:20250608T225610Z
UID:3102-1751194800-1751198400@godwithuscanada.com
SUMMARY:Sunday Morning Service
DESCRIPTION:
URL:https://godwithuscanada.com/event/sunday-morning-service-10/
LOCATION:Emmanuel Baptist Church\, 108 Cornwall Drive\, Fort McMurray\, Alberta\, T9K 1E7\, Canada
ATTACH;FMTTYPE=image/png:https://godwithuscanada.com/wp-content/uploads/2025/03/Screenshot-2025-03-26-132855.png
END:VEVENT
BEGIN:VEVENT
DTSTART;TZID=America/Edmonton:20250625T190000
DTEND;TZID=America/Edmonton:20250625T200000
DTSTAMP:20260419T102759
CREATED:20250608T225507Z
LAST-MODIFIED:20250608T225507Z
UID:3098-1750878000-1750881600@godwithuscanada.com
SUMMARY:Wednesday Night Bible Study
DESCRIPTION:
URL:https://godwithuscanada.com/event/wednesday-night-bible-study-3/
LOCATION:Emmanuel Baptist Church\, 108 Cornwall Drive\, Fort McMurray\, Alberta\, T9K 1E7\, Canada
ATTACH;FMTTYPE=image/jpeg:https://godwithuscanada.com/wp-content/uploads/2025/03/pexels-photo-5199805-5199805-scaled.jpg
END:VEVENT
BEGIN:VEVENT
DTSTART;TZID=America/Edmonton:20250622T180000
DTEND;TZID=America/Edmonton:20250622T190000
DTSTAMP:20260419T102759
CREATED:20250608T225424Z
LAST-MODIFIED:20250608T225424Z
UID:3094-1750615200-1750618800@godwithuscanada.com
SUMMARY:Sunday Evening Service
DESCRIPTION:
URL:https://godwithuscanada.com/event/sunday-evening-service-10/
LOCATION:Emmanuel Baptist Church\, 108 Cornwall Drive\, Fort McMurray\, Alberta\, T9K 1E7\, Canada
ATTACH;FMTTYPE=image/png:https://godwithuscanada.com/wp-content/uploads/2025/03/Screenshot-2025-03-26-132855.png
END:VEVENT
BEGIN:VEVENT
DTSTART;TZID=America/Edmonton:20250622T110000
DTEND;TZID=America/Edmonton:20250622T120000
DTSTAMP:20260419T102759
CREATED:20250608T225341Z
LAST-MODIFIED:20250608T225341Z
UID:3090-1750590000-1750593600@godwithuscanada.com
SUMMARY:Sunday Morning Service
DESCRIPTION:
URL:https://godwithuscanada.com/event/sunday-morning-service-9/
LOCATION:Emmanuel Baptist Church\, 108 Cornwall Drive\, Fort McMurray\, Alberta\, T9K 1E7\, Canada
ATTACH;FMTTYPE=image/png:https://godwithuscanada.com/wp-content/uploads/2025/03/Screenshot-2025-03-26-132855.png
END:VEVENT
BEGIN:VEVENT
DTSTART;TZID=America/Edmonton:20250620T180000
DTEND;TZID=America/Edmonton:20250620T200000
DTSTAMP:20260419T102759
CREATED:20250608T225747Z
LAST-MODIFIED:20250608T225747Z
UID:3110-1750442400-1750449600@godwithuscanada.com
SUMMARY:Teen BBQ
DESCRIPTION:
URL:https://godwithuscanada.com/event/teen-bbq/
LOCATION:Emmanuel Baptist Church\, 108 Cornwall Drive\, Fort McMurray\, Alberta\, T9K 1E7\, Canada
END:VEVENT
BEGIN:VEVENT
DTSTART;TZID=America/Edmonton:20250618T190000
DTEND;TZID=America/Edmonton:20250618T200000
DTSTAMP:20260419T102759
CREATED:20250608T225301Z
LAST-MODIFIED:20250608T225301Z
UID:3086-1750273200-1750276800@godwithuscanada.com
SUMMARY:Wednesday Night Bible Study
DESCRIPTION:
URL:https://godwithuscanada.com/event/wednesday-night-bible-study-2/
LOCATION:Emmanuel Baptist Church\, 108 Cornwall Drive\, Fort McMurray\, Alberta\, T9K 1E7\, Canada
ATTACH;FMTTYPE=image/jpeg:https://godwithuscanada.com/wp-content/uploads/2025/03/pexels-photo-5199805-5199805-scaled.jpg
END:VEVENT
BEGIN:VEVENT
DTSTART;TZID=America/Edmonton:20250615T180000
DTEND;TZID=America/Edmonton:20250615T190000
DTSTAMP:20260419T102759
CREATED:20250608T225901Z
LAST-MODIFIED:20250608T225901Z
UID:3114-1750010400-1750014000@godwithuscanada.com
SUMMARY:Sunday Evening Service
DESCRIPTION:
URL:https://godwithuscanada.com/event/sunday-evening-service-12/
LOCATION:Emmanuel Baptist Church\, 108 Cornwall Drive\, Fort McMurray\, Alberta\, T9K 1E7\, Canada
ATTACH;FMTTYPE=image/png:https://godwithuscanada.com/wp-content/uploads/2025/03/Screenshot-2025-03-26-132855.png
END:VEVENT
BEGIN:VEVENT
DTSTART;TZID=America/Edmonton:20250615T110000
DTEND;TZID=America/Edmonton:20250615T120000
DTSTAMP:20260419T102759
CREATED:20250608T225125Z
LAST-MODIFIED:20250608T225125Z
UID:3078-1749985200-1749988800@godwithuscanada.com
SUMMARY:Sunday Morning Service
DESCRIPTION:
URL:https://godwithuscanada.com/event/sunday-morning-service-8/
LOCATION:Emmanuel Baptist Church\, 108 Cornwall Drive\, Fort McMurray\, Alberta\, T9K 1E7\, Canada
ATTACH;FMTTYPE=image/png:https://godwithuscanada.com/wp-content/uploads/2025/03/Screenshot-2025-03-26-132855.png
END:VEVENT
BEGIN:VEVENT
DTSTART;TZID=America/Edmonton:20250611T190000
DTEND;TZID=America/Edmonton:20250611T200000
DTSTAMP:20260419T102759
CREATED:20250608T225037Z
LAST-MODIFIED:20250608T225037Z
UID:3074-1749668400-1749672000@godwithuscanada.com
SUMMARY:Wednesday Night Bible Study
DESCRIPTION:
URL:https://godwithuscanada.com/event/wednesday-night-bible-study/
LOCATION:Emmanuel Baptist Church\, 108 Cornwall Drive\, Fort McMurray\, Alberta\, T9K 1E7\, Canada
ATTACH;FMTTYPE=image/jpeg:https://godwithuscanada.com/wp-content/uploads/2025/03/pexels-photo-5199805-5199805-scaled.jpg
END:VEVENT
BEGIN:VEVENT
DTSTART;TZID=America/Edmonton:20250608T180000
DTEND;TZID=America/Edmonton:20250608T190000
DTSTAMP:20260419T102759
CREATED:20250518T195026Z
LAST-MODIFIED:20250518T195026Z
UID:3058-1749405600-1749409200@godwithuscanada.com
SUMMARY:Sunday Evening Service
DESCRIPTION:
URL:https://godwithuscanada.com/event/sunday-evening-service-8/
LOCATION:Emmanuel Baptist Church\, 108 Cornwall Drive\, Fort McMurray\, Alberta\, T9K 1E7\, Canada
ATTACH;FMTTYPE=image/png:https://godwithuscanada.com/wp-content/uploads/2025/03/Screenshot-2025-03-26-132855.png
END:VEVENT
BEGIN:VEVENT
DTSTART;TZID=America/Edmonton:20250608T110000
DTEND;TZID=America/Edmonton:20250608T120000
DTSTAMP:20260419T102759
CREATED:20250518T194449Z
LAST-MODIFIED:20250518T194449Z
UID:3054-1749380400-1749384000@godwithuscanada.com
SUMMARY:Sunday Morning Service
DESCRIPTION:
URL:https://godwithuscanada.com/event/sunday-morning-service-7/
LOCATION:Emmanuel Baptist Church\, 108 Cornwall Drive\, Fort McMurray\, Alberta\, T9K 1E7\, Canada
ATTACH;FMTTYPE=image/png:https://godwithuscanada.com/wp-content/uploads/2025/03/Screenshot-2025-03-26-132855.png
END:VEVENT
BEGIN:VEVENT
DTSTART;TZID=America/Edmonton:20250604T190000
DTEND;TZID=America/Edmonton:20250604T200000
DTSTAMP:20260419T102759
CREATED:20250518T194304Z
LAST-MODIFIED:20250518T194304Z
UID:3046-1749063600-1749067200@godwithuscanada.com
SUMMARY:Wednesday Bible Study
DESCRIPTION:
URL:https://godwithuscanada.com/event/wednesday-bible-study-3/
LOCATION:Emmanuel Baptist Church\, 108 Cornwall Drive\, Fort McMurray\, Alberta\, T9K 1E7\, Canada
ATTACH;FMTTYPE=image/jpeg:https://godwithuscanada.com/wp-content/uploads/2025/03/pexels-photo-5199805-5199805-scaled.jpg
END:VEVENT
BEGIN:VEVENT
DTSTART;TZID=America/Edmonton:20250601T180000
DTEND;TZID=America/Edmonton:20250601T190000
DTSTAMP:20260419T102759
CREATED:20250518T194214Z
LAST-MODIFIED:20250518T194214Z
UID:3042-1748800800-1748804400@godwithuscanada.com
SUMMARY:Sunday Evening Service
DESCRIPTION:
URL:https://godwithuscanada.com/event/sunday-evening-service-7/
LOCATION:Emmanuel Baptist Church\, 108 Cornwall Drive\, Fort McMurray\, Alberta\, T9K 1E7\, Canada
ATTACH;FMTTYPE=image/png:https://godwithuscanada.com/wp-content/uploads/2025/03/Screenshot-2025-03-26-132855.png
END:VEVENT
BEGIN:VEVENT
DTSTART;TZID=America/Edmonton:20250601T110000
DTEND;TZID=America/Edmonton:20250601T120000
DTSTAMP:20260419T102759
CREATED:20250518T194124Z
LAST-MODIFIED:20250518T194124Z
UID:3038-1748775600-1748779200@godwithuscanada.com
SUMMARY:Sunday Morning Service
DESCRIPTION:
URL:https://godwithuscanada.com/event/sunday-morning-service-6/
LOCATION:Emmanuel Baptist Church\, 108 Cornwall Drive\, Fort McMurray\, Alberta\, T9K 1E7\, Canada
ATTACH;FMTTYPE=image/png:https://godwithuscanada.com/wp-content/uploads/2025/03/Screenshot-2025-03-26-132855.png
END:VEVENT
BEGIN:VEVENT
DTSTART;TZID=America/Edmonton:20250530T180000
DTEND;TZID=America/Edmonton:20250530T200000
DTSTAMP:20260419T102759
CREATED:20250518T194404Z
LAST-MODIFIED:20250518T194404Z
UID:3050-1748628000-1748635200@godwithuscanada.com
SUMMARY:Teen Bible Study
DESCRIPTION:
URL:https://godwithuscanada.com/event/teen-bible-study/
LOCATION:Emmanuel Baptist Church\, 108 Cornwall Drive\, Fort McMurray\, Alberta\, T9K 1E7\, Canada
ATTACH;FMTTYPE=image/jpeg:https://godwithuscanada.com/wp-content/uploads/2025/03/pexels-photo-5199805-5199805-scaled.jpg
END:VEVENT
BEGIN:VEVENT
DTSTART;TZID=America/Edmonton:20250528T190000
DTEND;TZID=America/Edmonton:20250528T200000
DTSTAMP:20260419T102759
CREATED:20250518T194031Z
LAST-MODIFIED:20250518T194031Z
UID:3034-1748458800-1748462400@godwithuscanada.com
SUMMARY:Wednesday Bible Study
DESCRIPTION:
URL:https://godwithuscanada.com/event/wednesday-bible-study-2/
LOCATION:Emmanuel Baptist Church\, 108 Cornwall Drive\, Fort McMurray\, Alberta\, T9K 1E7\, Canada
ATTACH;FMTTYPE=image/jpeg:https://godwithuscanada.com/wp-content/uploads/2025/03/pexels-photo-5199805-5199805-scaled.jpg
END:VEVENT
BEGIN:VEVENT
DTSTART;TZID=America/Edmonton:20250525T180000
DTEND;TZID=America/Edmonton:20250525T190000
DTSTAMP:20260419T102759
CREATED:20250518T193925Z
LAST-MODIFIED:20250518T193925Z
UID:3030-1748196000-1748199600@godwithuscanada.com
SUMMARY:Sunday Evening Service
DESCRIPTION:
URL:https://godwithuscanada.com/event/sunday-evening-service-6/
LOCATION:Emmanuel Baptist Church\, 108 Cornwall Drive\, Fort McMurray\, Alberta\, T9K 1E7\, Canada
ATTACH;FMTTYPE=image/png:https://godwithuscanada.com/wp-content/uploads/2025/03/Screenshot-2025-03-26-132855.png
END:VEVENT
END:VCALENDAR