BEGIN:VCALENDAR
VERSION:2.0
PRODID:-//Emmanuel Baptist Church - ECPv6.15.18//NONSGML v1.0//EN
CALSCALE:GREGORIAN
METHOD:PUBLISH
X-WR-CALNAME:Emmanuel Baptist Church
X-ORIGINAL-URL:https://godwithuscanada.com
X-WR-CALDESC:Events for Emmanuel Baptist Church
REFRESH-INTERVAL;VALUE=DURATION:PT1H
X-Robots-Tag:noindex
X-PUBLISHED-TTL:PT1H
BEGIN:VTIMEZONE
TZID:America/Edmonton
BEGIN:DAYLIGHT
TZOFFSETFROM:-0700
TZOFFSETTO:-0600
TZNAME:MDT
DTSTART:20240310T090000
END:DAYLIGHT
BEGIN:STANDARD
TZOFFSETFROM:-0600
TZOFFSETTO:-0700
TZNAME:MST
DTSTART:20241103T080000
END:STANDARD
BEGIN:DAYLIGHT
TZOFFSETFROM:-0700
TZOFFSETTO:-0600
TZNAME:MDT
DTSTART:20250309T090000
END:DAYLIGHT
BEGIN:STANDARD
TZOFFSETFROM:-0600
TZOFFSETTO:-0700
TZNAME:MST
DTSTART:20251102T080000
END:STANDARD
BEGIN:DAYLIGHT
TZOFFSETFROM:-0700
TZOFFSETTO:-0600
TZNAME:MDT
DTSTART:20260308T090000
END:DAYLIGHT
BEGIN:STANDARD
TZOFFSETFROM:-0600
TZOFFSETTO:-0700
TZNAME:MST
DTSTART:20261101T080000
END:STANDARD
END:VTIMEZONE
BEGIN:VEVENT
DTSTART;TZID=America/Edmonton:20250427T110000
DTEND;TZID=America/Edmonton:20250427T120000
DTSTAMP:20260419T220408
CREATED:20250404T152314Z
LAST-MODIFIED:20250404T152314Z
UID:2949-1745751600-1745755200@godwithuscanada.com
SUMMARY:Morning Service
DESCRIPTION:
URL:https://godwithuscanada.com/event/morning-service-3/
LOCATION:Emmanuel Baptist Church\, 108 Cornwall Drive\, Fort McMurray\, Alberta\, T9K 1E7\, Canada
ATTACH;FMTTYPE=image/png:https://godwithuscanada.com/wp-content/uploads/2025/03/Emmanuel-Baptist-Chruch-Rev-5.png
END:VEVENT
BEGIN:VEVENT
DTSTART;TZID=America/Edmonton:20250423T190000
DTEND;TZID=America/Edmonton:20250423T200000
DTSTAMP:20260419T220408
CREATED:20250404T152128Z
LAST-MODIFIED:20250404T152128Z
UID:2941-1745434800-1745438400@godwithuscanada.com
SUMMARY:Bible Study
DESCRIPTION:
URL:https://godwithuscanada.com/event/bible-study-5/
LOCATION:Emmanuel Baptist Church\, 108 Cornwall Drive\, Fort McMurray\, Alberta\, T9K 1E7\, Canada
ATTACH;FMTTYPE=image/jpeg:https://godwithuscanada.com/wp-content/uploads/2025/03/pexels-photo-5199805-5199805-scaled.jpg
END:VEVENT
BEGIN:VEVENT
DTSTART;TZID=America/Edmonton:20250420T180000
DTEND;TZID=America/Edmonton:20250420T190000
DTSTAMP:20260419T220408
CREATED:20250404T152011Z
LAST-MODIFIED:20250404T152011Z
UID:2937-1745172000-1745175600@godwithuscanada.com
SUMMARY:Evening Service
DESCRIPTION:
URL:https://godwithuscanada.com/event/evening-service-2/
LOCATION:Emmanuel Baptist Church\, 108 Cornwall Drive\, Fort McMurray\, Alberta\, T9K 1E7\, Canada
ATTACH;FMTTYPE=image/png:https://godwithuscanada.com/wp-content/uploads/2025/03/Emmanuel-Baptist-Chruch-Rev-5.png
END:VEVENT
BEGIN:VEVENT
DTSTART;TZID=America/Edmonton:20250420T110000
DTEND;TZID=America/Edmonton:20250420T120000
DTSTAMP:20260419T220408
CREATED:20250404T151914Z
LAST-MODIFIED:20250404T151914Z
UID:2933-1745146800-1745150400@godwithuscanada.com
SUMMARY:Morning Service
DESCRIPTION:
URL:https://godwithuscanada.com/event/morning-service-2/
LOCATION:Emmanuel Baptist Church\, 108 Cornwall Drive\, Fort McMurray\, Alberta\, T9K 1E7\, Canada
ATTACH;FMTTYPE=image/png:https://godwithuscanada.com/wp-content/uploads/2025/03/Emmanuel-Baptist-Chruch-Rev-5.png
END:VEVENT
BEGIN:VEVENT
DTSTART;TZID=America/Edmonton:20250418T180000
DTEND;TZID=America/Edmonton:20250418T190000
DTSTAMP:20260419T220408
CREATED:20250404T152214Z
LAST-MODIFIED:20250404T152214Z
UID:2945-1744999200-1745002800@godwithuscanada.com
SUMMARY:Teen Night - Bible Study
DESCRIPTION:
URL:https://godwithuscanada.com/event/teen-night-bible-study-2/
LOCATION:Emmanuel Baptist Church\, 108 Cornwall Drive\, Fort McMurray\, Alberta\, T9K 1E7\, Canada
END:VEVENT
BEGIN:VEVENT
DTSTART;TZID=America/Edmonton:20250416T190000
DTEND;TZID=America/Edmonton:20250416T200000
DTSTAMP:20260419T220408
CREATED:20250404T151818Z
LAST-MODIFIED:20250404T151818Z
UID:2929-1744830000-1744833600@godwithuscanada.com
SUMMARY:Bible Study
DESCRIPTION:
URL:https://godwithuscanada.com/event/bible-study-4/
LOCATION:Emmanuel Baptist Church\, 108 Cornwall Drive\, Fort McMurray\, Alberta\, T9K 1E7\, Canada
ATTACH;FMTTYPE=image/jpeg:https://godwithuscanada.com/wp-content/uploads/2025/03/pexels-photo-5199805-5199805-scaled.jpg
END:VEVENT
BEGIN:VEVENT
DTSTART;TZID=America/Edmonton:20250413T180000
DTEND;TZID=America/Edmonton:20250413T190000
DTSTAMP:20260419T220408
CREATED:20250404T151727Z
LAST-MODIFIED:20250404T151727Z
UID:2925-1744567200-1744570800@godwithuscanada.com
SUMMARY:Evening Service
DESCRIPTION:
URL:https://godwithuscanada.com/event/evening-service/
LOCATION:Emmanuel Baptist Church\, 108 Cornwall Drive\, Fort McMurray\, Alberta\, T9K 1E7\, Canada
ATTACH;FMTTYPE=image/png:https://godwithuscanada.com/wp-content/uploads/2025/03/Emmanuel-Baptist-Chruch-Rev-5.png
END:VEVENT
BEGIN:VEVENT
DTSTART;TZID=America/Edmonton:20250413T110000
DTEND;TZID=America/Edmonton:20250413T120000
DTSTAMP:20260419T220408
CREATED:20250404T151612Z
LAST-MODIFIED:20250404T151612Z
UID:2921-1744542000-1744545600@godwithuscanada.com
SUMMARY:Morning Service
DESCRIPTION:
URL:https://godwithuscanada.com/event/morning-service/
LOCATION:Emmanuel Baptist Church\, 108 Cornwall Drive\, Fort McMurray\, Alberta\, T9K 1E7\, Canada
ATTACH;FMTTYPE=image/png:https://godwithuscanada.com/wp-content/uploads/2025/03/Emmanuel-Baptist-Chruch-Rev-5.png
END:VEVENT
BEGIN:VEVENT
DTSTART;TZID=America/Edmonton:20250409T190000
DTEND;TZID=America/Edmonton:20250409T200000
DTSTAMP:20260419T220408
CREATED:20250404T151506Z
LAST-MODIFIED:20250404T151506Z
UID:2917-1744225200-1744228800@godwithuscanada.com
SUMMARY:Bible Study
DESCRIPTION:
URL:https://godwithuscanada.com/event/bible-study-3/
LOCATION:Emmanuel Baptist Church\, 108 Cornwall Drive\, Fort McMurray\, Alberta\, T9K 1E7\, Canada
ATTACH;FMTTYPE=image/jpeg:https://godwithuscanada.com/wp-content/uploads/2025/03/pexels-photo-5199805-5199805-scaled.jpg
END:VEVENT
BEGIN:VEVENT
DTSTART;TZID=America/Edmonton:20250406T180000
DTEND;TZID=America/Edmonton:20250406T190000
DTSTAMP:20260419T220408
CREATED:20250326T205336Z
LAST-MODIFIED:20250326T205336Z
UID:2819-1743962400-1743966000@godwithuscanada.com
SUMMARY:Sunday Evening Service
DESCRIPTION:
URL:https://godwithuscanada.com/event/sunday-evening-service-2/
LOCATION:Emmanuel Baptist Church\, 108 Cornwall Drive\, Fort McMurray\, Alberta\, T9K 1E7\, Canada
ATTACH;FMTTYPE=image/png:https://godwithuscanada.com/wp-content/uploads/2025/03/Emmanuel-Baptist-Chruch-Rev-4.png
END:VEVENT
BEGIN:VEVENT
DTSTART;TZID=America/Edmonton:20250406T110000
DTEND;TZID=America/Edmonton:20250406T120000
DTSTAMP:20260419T220408
CREATED:20250326T205154Z
LAST-MODIFIED:20250326T205233Z
UID:2815-1743937200-1743940800@godwithuscanada.com
SUMMARY:Sunday Morning Service
DESCRIPTION:
URL:https://godwithuscanada.com/event/sunday-morning-service-2/
LOCATION:Emmanuel Baptist Church\, 108 Cornwall Drive\, Fort McMurray\, Alberta\, T9K 1E7\, Canada
ATTACH;FMTTYPE=image/png:https://godwithuscanada.com/wp-content/uploads/2025/03/Emmanuel-Baptist-Chruch-Rev-5.png
END:VEVENT
BEGIN:VEVENT
DTSTART;TZID=America/Edmonton:20250404T180000
DTEND;TZID=America/Edmonton:20250404T190000
DTSTAMP:20260419T220408
CREATED:20250404T151339Z
LAST-MODIFIED:20250404T151339Z
UID:2913-1743789600-1743793200@godwithuscanada.com
SUMMARY:Teen Night - Bible Study
DESCRIPTION:
URL:https://godwithuscanada.com/event/teen-night-bible-study/
LOCATION:Emmanuel Baptist Church\, 108 Cornwall Drive\, Fort McMurray\, Alberta\, T9K 1E7\, Canada
END:VEVENT
BEGIN:VEVENT
DTSTART;TZID=America/Edmonton:20250402T190000
DTEND;TZID=America/Edmonton:20250402T200000
DTSTAMP:20260419T220408
CREATED:20250326T204948Z
LAST-MODIFIED:20250326T204948Z
UID:2811-1743620400-1743624000@godwithuscanada.com
SUMMARY:Bible Study
DESCRIPTION:
URL:https://godwithuscanada.com/event/bible-study-2/
LOCATION:Emmanuel Baptist Church\, 108 Cornwall Drive\, Fort McMurray\, Alberta\, T9K 1E7\, Canada
ATTACH;FMTTYPE=image/jpeg:https://godwithuscanada.com/wp-content/uploads/2025/03/pexels-photo-5199805-5199805-scaled.jpg
END:VEVENT
BEGIN:VEVENT
DTSTART;TZID=America/Edmonton:20250330T180000
DTEND;TZID=America/Edmonton:20250330T190000
DTSTAMP:20260419T220408
CREATED:20250326T204802Z
LAST-MODIFIED:20250326T204802Z
UID:2807-1743357600-1743361200@godwithuscanada.com
SUMMARY:Sunday Evening Service
DESCRIPTION:
URL:https://godwithuscanada.com/event/sunday-evening-service/
LOCATION:Emmanuel Baptist Church\, 108 Cornwall Drive\, Fort McMurray\, Alberta\, T9K 1E7\, Canada
ATTACH;FMTTYPE=image/png:https://godwithuscanada.com/wp-content/uploads/2025/03/Emmanuel-Baptist-Chruch-Rev-4.png
END:VEVENT
BEGIN:VEVENT
DTSTART;TZID=America/Edmonton:20250330T110000
DTEND;TZID=America/Edmonton:20250330T120000
DTSTAMP:20260419T220408
CREATED:20250326T204025Z
LAST-MODIFIED:20250326T204615Z
UID:2803-1743332400-1743336000@godwithuscanada.com
SUMMARY:Sunday Morning Service
DESCRIPTION:
URL:https://godwithuscanada.com/event/sunday-morning-service/
LOCATION:Emmanuel Baptist Church\, 108 Cornwall Drive\, Fort McMurray\, Alberta\, T9K 1E7\, Canada
ATTACH;FMTTYPE=image/png:https://godwithuscanada.com/wp-content/uploads/2025/03/Emmanuel-Baptist-Chruch-Rev-5.png
END:VEVENT
BEGIN:VEVENT
DTSTART;TZID=America/Edmonton:20250326T190000
DTEND;TZID=America/Edmonton:20250326T200000
DTSTAMP:20260419T220408
CREATED:20250326T203128Z
LAST-MODIFIED:20250326T203317Z
UID:2794-1743015600-1743019200@godwithuscanada.com
SUMMARY:Bible Study
DESCRIPTION:
URL:https://godwithuscanada.com/event/bible-study/
LOCATION:Emmanuel Baptist Church\, 108 Cornwall Drive\, Fort McMurray\, Alberta\, T9K 1E7\, Canada
ATTACH;FMTTYPE=image/jpeg:https://godwithuscanada.com/wp-content/uploads/2025/03/pexels-photo-5199805-5199805-scaled.jpg
END:VEVENT
END:VCALENDAR